BEGIN:VCALENDAR
VERSION:2.0
METHOD:PUBLISH
PRODID:-//Causal Sarl//LionsBase Calendar 5.0.x-dev//DE
TZID:Europe/Zurich
BEGIN:VEVENT
UID:32374_20260626@graz-erzherzog-johann.lions.at
DTSTAMP:20260424T190014Z
DTSTART:20260626T150000Z
DTEND:20260626T200000Z
ORGANIZER:LC Graz Joanneum
LOCATION:Buschenschank Pichler Schober
SUMMARY:Jahresausklang und Präsidentenübergabe
DESCRIPTION:
END:VEVENT
END:VCALENDAR
