BEGIN:VCALENDAR
VERSION:2.0
METHOD:PUBLISH
PRODID:-//Causal Sarl//LionsBase Calendar 5.0.x-dev//DE
TZID:Europe/Zurich
BEGIN:VEVENT
UID:32368_20260608@graz-erzherzog-johann.lions.at
DTSTAMP:20260424T185850Z
DTSTART:20260608T170000Z
DTEND:20260608T193000Z
ORGANIZER:LC Graz Joanneum
LOCATION:Austria Trend Hotel Europa
SUMMARY:Clubabend mit Vortrag NRAbg. Vizekanzler a.D. Werner Kogler:
  „Sind Demokratien in Europa in Gefahr?“
DESCRIPTION:
END:VEVENT
END:VCALENDAR
