BEGIN:VCALENDAR
VERSION:2.0
METHOD:PUBLISH
PRODID:-//Causal Sarl//LionsBase Calendar 5.0.x-dev//DE
TZID:Europe/Zurich
BEGIN:VEVENT
UID:32367_20260518@graz-erzherzog-johann.lions.at
DTSTAMP:20260424T202835Z
DTSTART:20260518T170000Z
DTEND:20260518T193000Z
ORGANIZER:LC Graz Joanneum
LOCATION:Restaurant Dionysos\, Färbergasse 6\, 8010 Graz
SUMMARY:Clubabend mit Vortrag Frau Mag. Sandra Mathelitsch: 
 „Gefahren sozialer Medien – Antworten und Maßnahmen etablier
 ter Medien“
DESCRIPTION:
END:VEVENT
END:VCALENDAR
